BEGIN:VCALENDAR
VERSION:2.0
PRODID:-//Tukios.com/
BEGIN:VEVENT
UID:98577dd1-a67b-4f18-986c-c801e7dd2fed@www.reedandsteinbach.com
DTSTAMP:20260421T221538Z
DTSTART:20260429T160000Z
DTEND:20260429T170000Z
SUMMARY:Memorial Service
DESCRIPTION:
URL:https://www.reedandsteinbach.com/obituaries/anne-scheckler
LOCATION: 2335 Lower State Road  Doylestown PA 18901
GEO:40.2988275;-75.1431003
END:VEVENT
END:VCALENDAR