BEGIN:VCALENDAR
VERSION:2.0
PRODID:-//Tukios.com/
BEGIN:VEVENT
UID:f3ec6e7b-fba3-4ec6-a7cc-7205d6db4bfa@www.reedandsteinbach.com
DTSTAMP:20260421T221658Z
DTSTART:20260429T150000Z
DTEND:20260429T163000Z
SUMMARY:Visitation
DESCRIPTION:
URL:https://www.reedandsteinbach.com/obituaries/anne-scheckler
LOCATION: 2335 Lower State Road  Doylestown PA 18901
GEO:40.2988275;-75.1431003
END:VEVENT
END:VCALENDAR