BEGIN:VCALENDAR
VERSION:2.0
PRODID:-//Tukios.com/
BEGIN:VEVENT
UID:bb8068d7-fd95-4297-a428-63853a4b1535@www.reedandsteinbach.com
DTSTAMP:20260422T203902Z
DTSTART:20260530T150000Z
DTEND:20260530T153000Z
SUMMARY:Graveside Service
DESCRIPTION:
URL:https://www.reedandsteinbach.com/obituaries/gwenda-posante
LOCATION: 1169 Limekiln Pike  Ambler PA 19002
GEO:40.2169094;-75.1880986
END:VEVENT
END:VCALENDAR