BEGIN:VCALENDAR
VERSION:2.0
PRODID:-//Tukios.com/
BEGIN:VEVENT
UID:12337ea3-e894-4f71-9469-bee961ed7ef8@www.reedandsteinbach.com
DTSTAMP:20260425T172652Z
DTSTART:20260428T150000Z
DTEND:20260428T153000Z
SUMMARY:Funeral Service
DESCRIPTION:
URL:https://www.reedandsteinbach.com/obituaries/mary-trout
LOCATION: 2335 Lower State Road  Doylestown PA 18901
GEO:40.2988275;-75.1431003
END:VEVENT
END:VCALENDAR