BEGIN:VCALENDAR
VERSION:2.0
PRODID:-//Tukios.com/
BEGIN:VEVENT
UID:3ebe16e5-3a0d-4904-ae91-8bbfb54d98cc@www.reedandsteinbach.com
DTSTAMP:20260425T172535Z
DTSTART:20260428T143000Z
DTEND:20260428T150000Z
SUMMARY:Visitation
DESCRIPTION:
URL:https://www.reedandsteinbach.com/obituaries/mary-trout
LOCATION:Reed & Steinbach Funeral Home 2335 Lower State Road  Doylestown 
	PA 18901
GEO:40.2988275;-75.1431003
END:VEVENT
END:VCALENDAR